BEGIN:VCALENDAR
VERSION:2.0
PRODID:-//kjr-dachau//kjr-dachau.de//DE
METHOD:PUBLISH
CALSCALE:GREGORIAN
BEGIN:VEVENT
UID:427@kjr-dachau.de
DTSTAMP:20260422T090355
DTSTART:20260702T180000
DTEND:20260702T230000
SUMMARY:KJR Hinterhoffest
LOCATION:
DESCRIPTION:Details unter https://www.jugend-karlsfeld.de/veranstaltung/kjr-hinterhoffest/
END:VEVENT
END:VCALENDAR